BEGIN:VCALENDAR
VERSION:2.0
PRODID:-//wp-events-plugin.com//7.2.3.1//EN
TZID:America/Los_Angeles
X-WR-TIMEZONE:America/Los_Angeles
BEGIN:VEVENT
UID:38@beavertonea.org
DTSTART;TZID=America/Los_Angeles:20190124T163000
DTEND;TZID=America/Los_Angeles:20190124T180000
DTSTAMP:20181024T023826Z
URL:https://beavertonea.org/events/understanding-your-regence-insurance-pl
 an/
SUMMARY:Understanding Your Regence Insurance Plan
DESCRIPTION:Find out how to make the most out of your Regence Insurance Pla
 n and learn what benefits are available to reduce stress and prevent burno
 ut.  Presented by Kara Jolliffe Buck\, Sr Account Executive\, Regence BC
 BS of Oregon and Debbie Johnson\, BSD Health Services Coordinator.\n\n*Wor
 kshops are for BEA Members only.  Please RSVP so that we can provide mate
 rials and snacks for attendees.
LOCATION:BEA Office\, 8900 NE Walker Road Suite 125\, Hillsboro\, Oregon\, 
 97006\, United States
X-APPLE-STRUCTURED-LOCATION;VALUE=URI;X-ADDRESS=8900 NE Walker Road Suite 1
 25\, Hillsboro\, Oregon\, 97006\, United States;X-APPLE-RADIUS=100;X-TITLE
 =BEA Office:geo:0,0
END:VEVENT
BEGIN:VTIMEZONE
TZID:America/Los_Angeles
X-LIC-LOCATION:America/Los_Angeles
BEGIN:STANDARD
DTSTART:20181104T010000
TZOFFSETFROM:-0700
TZOFFSETTO:-0800
TZNAME:PST
END:STANDARD
END:VTIMEZONE
END:VCALENDAR