BEGIN:VCALENDAR
VERSION:2.0
PRODID:-//wp-events-plugin.com//7.2.3.1//EN
TZID:America/Los_Angeles
X-WR-TIMEZONE:America/Los_Angeles
BEGIN:VEVENT
UID:109@beavertonea.org
DTSTART;TZID=America/Los_Angeles:20221108T163000
DTEND;TZID=America/Los_Angeles:20221108T173000
DTSTAMP:20220902T000950Z
URL:https://beavertonea.org/events/understanding-pers-opsrp-tier-3-2/
SUMMARY:Understanding PERS: OPSRP (Tier 3)
DESCRIPTION:Public employees hired on or after August 29\, 2003 are in the 
 Oregon Public Service Retirement Plan (OPSRP).  Learn more about your PER
 S benefits from Rolf Ellingsen\, a financial advisor with Voya Financial A
 dvisors\, Inc. This workshop covers pension benefit calculation methods\, 
 understanding your IAP account\, and coordinating PERS benefits with other
  income sources.  Rolf will share a presentation and answer questions thr
 oughout. It's never too early to start planning your retirement!\n\nA Zoom
  link will be sent out prior to the workshop to those who are registered.\
 n\nThis workshop is available only to BEA members.
END:VEVENT
BEGIN:VTIMEZONE
TZID:America/Los_Angeles
X-LIC-LOCATION:America/Los_Angeles
BEGIN:STANDARD
DTSTART:20221106T010000
TZOFFSETFROM:-0700
TZOFFSETTO:-0800
TZNAME:PST
END:STANDARD
END:VTIMEZONE
END:VCALENDAR