BEGIN:VCALENDAR
VERSION:2.0
PRODID:-//wp-events-plugin.com//7.2.3.1//EN
TZID:America/Los_Angeles
X-WR-TIMEZONE:America/Los_Angeles
BEGIN:VEVENT
UID:72@beavertonea.org
DTSTART;TZID=America/Los_Angeles:20210126T163000
DTEND;TZID=America/Los_Angeles:20210126T180000
DTSTAMP:20210125T191832Z
URL:https://beavertonea.org/events/new-arrivals-workshop-for-expecting-par
 ents/
SUMMARY:New Arrivals Workshop (for Expecting Parents)
DESCRIPTION:This workshop is for BEA members who are expecting a baby\, ado
 pting a child or becoming a legal guardian.  Presented by BEA Leadership 
 and Keshia Weston (BSD's Benefits Coordinator)\, this workshop will provid
 e information concerning leave options\, maternity programs\, and medical 
 benefits.  Participants will also have time to meet with a representative
  from their insurance carrier to ask specific questions.
END:VEVENT
BEGIN:VTIMEZONE
TZID:America/Los_Angeles
X-LIC-LOCATION:America/Los_Angeles
BEGIN:STANDARD
DTSTART:20201101T010000
TZOFFSETFROM:-0700
TZOFFSETTO:-0800
TZNAME:PST
END:STANDARD
END:VTIMEZONE
END:VCALENDAR