BEGIN:VCALENDAR
VERSION:2.0
PRODID:-//wp-events-plugin.com//7.2.3.1//EN
TZID:America/Los_Angeles
X-WR-TIMEZONE:America/Los_Angeles
BEGIN:VEVENT
UID:33@beavertonea.org
DTSTART;TZID=America/Los_Angeles:20190228T163000
DTEND;TZID=America/Los_Angeles:20190228T180000
DTSTAMP:20181024T024210Z
URL:https://beavertonea.org/events/financial-planning-for-mid-to-late-care
 er-educators-2/
SUMMARY:Financial Planning for Mid to Late Career Educators
DESCRIPTION:Focusing on mid to late career educators\, Casey Cleveland\, fr
 om CGC Financial Services LLC\, will cover financial planning options and 
 retirement choices including: budgeting\, PERS\, Social Security\, pre-tax
  savings accounts\, asset allocation\, insurance types\, and a little abou
 t estate planning.\n\n*Workshops are for BEA Members only.  Please RSVP s
 o that we can provide materials and snacks for attendees.
LOCATION:BEA Office\, 8900 NE Walker Road Suite 125\, Hillsboro\, Oregon\, 
 97006\, United States
X-APPLE-STRUCTURED-LOCATION;VALUE=URI;X-ADDRESS=8900 NE Walker Road Suite 1
 25\, Hillsboro\, Oregon\, 97006\, United States;X-APPLE-RADIUS=100;X-TITLE
 =BEA Office:geo:0,0
END:VEVENT
BEGIN:VTIMEZONE
TZID:America/Los_Angeles
X-LIC-LOCATION:America/Los_Angeles
BEGIN:STANDARD
DTSTART:20181104T010000
TZOFFSETFROM:-0700
TZOFFSETTO:-0800
TZNAME:PST
END:STANDARD
END:VTIMEZONE
END:VCALENDAR